BEGIN:VCALENDAR
VERSION:2.0
PRODID:-//Florida Lawyer Support Services, Inc. - ECPv6.15.17.1//NONSGML v1.0//EN
CALSCALE:GREGORIAN
METHOD:PUBLISH
X-ORIGINAL-URL:https://flssi.org
X-WR-CALDESC:Events for Florida Lawyer Support Services, Inc.
REFRESH-INTERVAL;VALUE=DURATION:PT1H
X-Robots-Tag:noindex
X-PUBLISHED-TTL:PT1H
BEGIN:VTIMEZONE
TZID:America/New_York
BEGIN:DAYLIGHT
TZOFFSETFROM:-0500
TZOFFSETTO:-0400
TZNAME:EDT
DTSTART:20240310T070000
END:DAYLIGHT
BEGIN:STANDARD
TZOFFSETFROM:-0400
TZOFFSETTO:-0500
TZNAME:EST
DTSTART:20241103T060000
END:STANDARD
BEGIN:DAYLIGHT
TZOFFSETFROM:-0500
TZOFFSETTO:-0400
TZNAME:EDT
DTSTART:20250309T070000
END:DAYLIGHT
BEGIN:STANDARD
TZOFFSETFROM:-0400
TZOFFSETTO:-0500
TZNAME:EST
DTSTART:20251102T060000
END:STANDARD
BEGIN:DAYLIGHT
TZOFFSETFROM:-0500
TZOFFSETTO:-0400
TZNAME:EDT
DTSTART:20260308T070000
END:DAYLIGHT
BEGIN:STANDARD
TZOFFSETFROM:-0400
TZOFFSETTO:-0500
TZNAME:EST
DTSTART:20261101T060000
END:STANDARD
END:VTIMEZONE
BEGIN:VEVENT
DTSTART;VALUE=DATE:20251017
DTEND;VALUE=DATE:20251019
DTSTAMP:20260423T105202
CREATED:20220201T222834Z
LAST-MODIFIED:20251024T042706Z
UID:291-1760659200-1760831999@flssi.org
SUMMARY:Probate Team 2025
DESCRIPTION:Probate Team 2025\n\nThank you for another outstanding program! \n\n  \nTo obtain the speakers’ materials\, sample FLSSI forms and the highly collectible FLEA tote bag\, use the form below to order the materials package! \nPlease note\, CLE credits are not included. \nProbate Team 2025 Materials Only\n  \nIf you would like to be among the first to know about future programs\, email your name and address to info@flssi.org and we’ll be happy to include you.
URL:https://flssi.org/event/upcoming-flea-seminar/
LOCATION:The Caribe Royale\, 8101 World Center Dr\, Orlando\, FL\, 32821\, United States
ORGANIZER;CN="Florida Legal Education Association (FLEA)":MAILTO:info@flssi.org
END:VEVENT
END:VCALENDAR